BEGIN:VCALENDAR
VERSION:2.0
PRODID:-//lrma.org//NONSGML kigkonsult.se iCalcreator 2.30.10//
CALSCALE:GREGORIAN
METHOD:PUBLISH
UID:50030de1-b33e-4924-a84b-8c460f3288ad
X-WR-CALDESC:$150 Members / $175 Non-members\nInstructor: Chad Mars\nJoin L
 aurel native Chad Mars as he teaches improvisational abstract painting wit
 h acrylic. Using a method of pouring and splashing\, with a wide variety o
 f paints including metallics and glitters\, the end result is highly textu
 red and fun. No painting experience or artistic skill necessary! Students 
 will be guided one on one by Chad to complete finished pieces. All supplie
 s included. \n
X-WR-RELCALID:566138dde783a9d16f4bfaaf739f31fc
X-WR-TIMEZONE:America/Chicago
BEGIN:VTIMEZONE
TZID:America/Chicago
BEGIN:STANDARD
TZNAME:CST
DTSTART:20241103T020000
TZOFFSETFROM:-0500
TZOFFSETTO:-0600
RDATE:20251102T020000
RDATE:20261101T020000
END:STANDARD
BEGIN:DAYLIGHT
TZNAME:CDT
DTSTART:20250309T020000
TZOFFSETFROM:-0600
TZOFFSETTO:-0500
RDATE:20260308T020000
END:DAYLIGHT
END:VTIMEZONE
BEGIN:VEVENT
UID:7c8e2c9c-ba2f-493d-ae68-0c29f3034d48
DTSTAMP:20260421T084325Z
DESCRIPTION:$150 Members / $175 Non-members\nInstructor: Chad Mars\nJoin La
 urel native Chad Mars as he teaches improvisational abstract painting with
  acrylic. Using a method of pouring and splashing\, with a wide variety of
  paints including metallics and glitters\, the end result is highly textur
 ed and fun. No painting experience or artistic skill necessary! Students w
 ill be guided one on one by Chad to complete finished pieces. All supplies
  included. \n
DTSTART;TZID=America/Chicago:20250719T130000
DTEND;TZID=America/Chicago:20250719T160000
LOCATION:LRMA Carriage House Studio
SUMMARY:Abstract Painting with Chad Mars
END:VEVENT
END:VCALENDAR
